BEGIN:VCALENDAR
VERSION:2.0
PRODID:-//Geneva Financial - ECPv6.15.20//NONSGML v1.0//EN
CALSCALE:GREGORIAN
METHOD:PUBLISH
X-WR-CALNAME:Geneva Financial
X-ORIGINAL-URL:https://www.genevafi.com
X-WR-CALDESC:Events for Geneva Financial
REFRESH-INTERVAL;VALUE=DURATION:PT1H
X-Robots-Tag:noindex
X-PUBLISHED-TTL:PT1H
BEGIN:VTIMEZONE
TZID:America/Phoenix
BEGIN:STANDARD
TZOFFSETFROM:-0700
TZOFFSETTO:-0700
TZNAME:MST
DTSTART:20240101T000000
END:STANDARD
END:VTIMEZONE
BEGIN:VEVENT
DTSTART;VALUE=DATE:20250506
DTEND;VALUE=DATE:20250507
DTSTAMP:20260425T041104
CREATED:20250507T223541Z
LAST-MODIFIED:20250507T223541Z
UID:88561-1746489600-1746575999@www.genevafi.com
SUMMARY:Teacher Appreciation Day
DESCRIPTION:Celebrating Teacher Appreciation Week – Honoring Our Everyday Educator Heroes! 🍎 \nTeacher Appreciation Week is the perfect opportunity for Loan Officers to connect with their community by recognizing the hard work\, heart\, and impact of local educators. It’s not just a kind gesture—it’s a powerful way to build relationships and show you’re a local resource who truly cares. \n✏️ Thoughtful Pop-Bys for Teachers:\nSurprise local schools or individual teachers with small gifts such as: \n\n\nCoffee gift cards \n\n\n“Emergency chocolate” kits \n\n\nNotebooks or custom pens \n\n\nSnacks with a tag that says: \n\n“Thanks for helping shape our future—one student (and mortgage) at a time!” \n\n\n\n🍩 Partner with Local Businesses:\nTeam up with a local coffee shop or bakery to sponsor a “Teachers’ Treat Day.” Provide free donuts or coffee for teachers with a card that says: \n\n“You inspire minds. We help them find homes.” \n\nInclude your contact info subtly on the packaging or signage—it’s brand-building without being salesy. \n🎓 School Staff Room Drops:\nDeliver baskets of goodies to school staff lounges with a heartfelt note like: \n\n“Your dedication doesn’t go unnoticed. Thank you for everything you do!” \n\nMake it a team effort—invite referral partners to co-sponsor and double your outreach. \n📱 Show the Love on Social:\nHighlight Teacher Appreciation Week online: \n\n\nShare stories of a teacher who impacted your life \n\n\nRun a giveaway: “Tag a favorite teacher and tell us why they rock!” \n\n\nPost thank-you videos or reels featuring messages to local schools \n\n\n🎁 Branded Gifts with Heart:\nHand out useful\, branded items like: \n\n\nReusable coffee tumblers \n\n\nSticky note sets \n\n\nTote bags with a note: \n\n“Helping you carry the load—whether it’s books or buying a home!”
URL:https://www.genevafi.com/event/teacher-appreciation-day/
CATEGORIES:National Days
END:VEVENT
BEGIN:VEVENT
DTSTART;VALUE=DATE:20250505
DTEND;VALUE=DATE:20250510
DTSTAMP:20260425T041104
CREATED:20250507T223459Z
LAST-MODIFIED:20250507T223459Z
UID:88559-1746403200-1746835199@www.genevafi.com
SUMMARY:Teacher Appreciation Week
DESCRIPTION:Celebrating Teacher Appreciation Week – Honoring Our Everyday Educator Heroes! 🍎 \nTeacher Appreciation Week is the perfect opportunity for Loan Officers to connect with their community by recognizing the hard work\, heart\, and impact of local educators. It’s not just a kind gesture—it’s a powerful way to build relationships and show you’re a local resource who truly cares. \n✏️ Thoughtful Pop-Bys for Teachers:\nSurprise local schools or individual teachers with small gifts such as: \n\n\nCoffee gift cards \n\n\n“Emergency chocolate” kits \n\n\nNotebooks or custom pens \n\n\nSnacks with a tag that says: \n\n“Thanks for helping shape our future—one student (and mortgage) at a time!” \n\n\n\n🍩 Partner with Local Businesses:\nTeam up with a local coffee shop or bakery to sponsor a “Teachers’ Treat Day.” Provide free donuts or coffee for teachers with a card that says: \n\n“You inspire minds. We help them find homes.” \n\nInclude your contact info subtly on the packaging or signage—it’s brand-building without being salesy. \n🎓 School Staff Room Drops:\nDeliver baskets of goodies to school staff lounges with a heartfelt note like: \n\n“Your dedication doesn’t go unnoticed. Thank you for everything you do!” \n\nMake it a team effort—invite referral partners to co-sponsor and double your outreach. \n📱 Show the Love on Social:\nHighlight Teacher Appreciation Week online: \n\n\nShare stories of a teacher who impacted your life \n\n\nRun a giveaway: “Tag a favorite teacher and tell us why they rock!” \n\n\nPost thank-you videos or reels featuring messages to local schools \n\n\n🎁 Branded Gifts with Heart:\nHand out useful\, branded items like: \n\n\nReusable coffee tumblers \n\n\nSticky note sets \n\n\nTote bags with a note: \n\n“Helping you carry the load—whether it’s books or buying a home!”
URL:https://www.genevafi.com/event/teacher-appreciation-week/
CATEGORIES:National Days
END:VEVENT
BEGIN:VEVENT
DTSTART;VALUE=DATE:20250504
DTEND;VALUE=DATE:20250505
DTSTAMP:20260425T041104
CREATED:20250507T223335Z
LAST-MODIFIED:20250507T223335Z
UID:88557-1746316800-1746403199@www.genevafi.com
SUMMARY:International Firefighters Day
DESCRIPTION:Honoring Our Heroes on International Firefighters Day – May 4th 🔥 \nInternational Firefighters Day is a powerful opportunity for Loan Officers to build genuine connections by recognizing the bravery\, sacrifice\, and service of our local heroes. Here are a few thoughtful ways to show appreciation and make a lasting impact in your community: \n👨‍🚒 Pop-By Appreciation Drops:\nCreate small\, heartfelt gift bags for your local fire stations. Include: \n\n\nSnacks or energy bars \n\n\nHandwritten thank-you notes \n\n\nBranded water bottles or gift cards for local coffee shops \n\n\nTag idea: \n\n“Thank you for being the first to respond and the last to leave. We appreciate you!” \n\n🤝 Partner with Local Businesses:\nSponsor a “Firefighter Appreciation” day with a local bakery or café—covering coffee or treats for firefighters who stop in uniform. Place signage or tags that read: \n\n“Proudly supporting those who protect and serve our community.” \n\n🧯Support & Share on Social:\nHighlight your local firehouse on social media: \n\n\nPost a thank-you video or reel \n\n\nShare facts or stories about fire safety and prevention \n\n\nTag your local department and invite your audience to join in the appreciation \n\n\n🎁 Give Back:\nConsider donating to firefighter-related charities or organizing a small fundraiser. You can also deliver fire-safety-themed client gifts\, like mini extinguishers or smoke detector batteries\, with a message like: \n\n“Just like our firefighters\, I’ve got your back—especially when it comes to protecting your biggest investment.”
URL:https://www.genevafi.com/event/international-firefighters-day/
CATEGORIES:National Days
END:VEVENT
BEGIN:VEVENT
DTSTART;VALUE=DATE:20250504
DTEND;VALUE=DATE:20250505
DTSTAMP:20260425T041104
CREATED:20250507T223121Z
LAST-MODIFIED:20250507T223121Z
UID:88554-1746316800-1746403199@www.genevafi.com
SUMMARY:Star Wars Day
DESCRIPTION:May the 4th Be With You is a stellar opportunity for Loan Officers to connect with clients\, referral partners\, and the community in a memorable\, geek-chic way. Lean into the galactic fun by doing a Star Wars pop-by—drop off themed treats like “Wookiee Cookies\,” “Darth Chocolate\,” or lightsaber-shaped candy with a tag that says:“The Force is strong with your home loan expert!”Or go for:“Yoda best when it comes to mortgages!” \nPartner with a local bakery\, coffee shop\, or comic store to sponsor a “May the 4th Be With You” giveaway—think free cookies or drinks with a Star Wars pun card that highlights your name. It’s a great way to show personality while supporting local business and building visibility in your community. \nFor open houses or client appreciation gifts\, consider Star Wars-themed goodie bags with popcorn\, candy\, or even mini LEGO kits\, paired with a fun mortgage message like:“Don’t let the home buying process go to the Dark Side—call me!” or“Avoid mortgage Empire entanglements—join the Home Loan Rebellion!” \nOn social\, get interactive with a “Favorite Star Wars Character” poll\, Jedi vs. Sith bracket\, or post a reel/tikTok showing off your best Star Wars impressions or a DIY “Mortgage Jedi Mind Trick” skit.Run a giveaway: “Tag your Jedi crew and tell us your favorite Star Wars movie for a chance to win a movie night gift basket!” \nNeed a tie-in line? Try:“This is the way… to homeownership” or“Making the mortgage process less complicated than the Star Wars timeline.” \nWhether you’re embracing The Force with snacks\, fun content\, or clever branding\, Star Wars Day is the perfect time to show off your creative side and build stronger connections—no Jedi mind tricks required.
URL:https://www.genevafi.com/event/star-wars-day/
CATEGORIES:National Days
END:VEVENT
BEGIN:VEVENT
DTSTART;TZID=America/Phoenix:20250501T000000
DTEND;TZID=America/Phoenix:20250531T235900
DTSTAMP:20260425T041104
CREATED:20250507T222919Z
LAST-MODIFIED:20250507T222919Z
UID:88552-1746057600-1748735940@www.genevafi.com
SUMMARY:Hero Month
DESCRIPTION:
URL:https://www.genevafi.com/event/hero-month/
CATEGORIES:National Days
END:VEVENT
BEGIN:VEVENT
DTSTART;TZID=America/Phoenix:20250501T000000
DTEND;TZID=America/Phoenix:20250531T235900
DTSTAMP:20260425T041104
CREATED:20250422T173402Z
LAST-MODIFIED:20250422T173402Z
UID:88213-1746057600-1748735940@www.genevafi.com
SUMMARY:Mental Health Awareness Month
DESCRIPTION:Mental Health Awareness Month offers Loan Officers a meaningful opportunity to show care\, compassion\, and connection—both personally and professionally. Start by incorporating mental health themes into your outreach and content for the month. A simple act like sharing a list of mental wellness resources\, apps\, or practices with clients and partners can go a long way. Consider sending a branded mental health check-in card with a note like “Your peace of mind matters—in life and in homeownership.” Small tokens like stress balls\, calming tea kits\, or self-care items can be added to appreciation packs or pop-bys with messages such as “Let’s take care of our minds while we take care of our homes.” \nSupport local mental health organizations by partnering or donating a portion of your May closings. Share these stories online to inspire others and build authentic engagement. You could also organize a simple “Wellness Wednesday” series on social media where you post a quote\, breathing technique\, or reminder to unplug. Hosting a mindfulness or mental wellness workshop—either virtually or locally—is another great way to support clients and partners beyond the transaction. \nFor internal team culture\, encourage mindfulness breaks\, offer gratitude shout-outs\, or run a kindness chain to boost morale. Use content that helps destigmatize mental health\, like sharing your own tips for managing stress during busy seasons. You can also host a giveaway with self-care themes—ask your audience to comment with their favorite way to relax\, and offer a prize like a spa gift card\, journal\, or wellness box. \nUse messaging like “Mental health is just as important as financial health” or “Taking care of your mind is part of building a healthy home life.” By showing your support\, you build deeper trust and demonstrate that you care about the whole person—not just their mortgage.
URL:https://www.genevafi.com/event/mental-health-awareness-month/
CATEGORIES:National Days
ATTACH;FMTTYPE=image/jpeg:https://www.genevafi.com/wp-content/uploads/2023/03/Mental-Health-scaled.jpg
END:VEVENT
BEGIN:VEVENT
DTSTART;VALUE=DATE:20250426
DTEND;VALUE=DATE:20250427
DTSTAMP:20260425T041104
CREATED:20250422T173201Z
LAST-MODIFIED:20250422T173221Z
UID:88211-1745625600-1745711999@www.genevafi.com
SUMMARY:National Pretzel Day
DESCRIPTION:National Pretzel Day is a fun and unexpected opportunity for Loan Officers to connect with clients\, referral partners\, and the community in a lighthearted way. One easy idea is to host a pretzel pop-by—drop off bags of gourmet pretzels or soft pretzels with a playful note like “Don’t get it twisted—I’m here for all your home loan needs!” It’s memorable\, snackable\, and perfect for staying top of mind. You can also partner with a local bakery or pretzel shop to sponsor a “free pretzel with this card” giveaway. It supports local business while spreading your name in the community. Another great option is to include pretzels in client appreciation packs or at open houses—branded pretzel bags or boxes with a fun sticker or tag are inexpensive and creative. \nOn the social side\, make the most of this quirky holiday by running a “Favorite Pretzel Flavor” poll or bracket on your Instagram or Facebook stories—think classic salted vs. cinnamon sugar vs. jalapeño cheddar. You could also post a reel or TikTok of yourself taste-testing wild pretzel flavors or making a pretzel recipe with a tie-in like “Twisting the path to homeownership into something delicious.” Another simple yet effective idea is a giveaway—ask followers to tag a friend and share their favorite pretzel spot for a chance to win a gift card to a local bakery or pretzel chain. \nIf you’re looking to tie it into your mortgage message\, use language like “Pretzels aren’t the only thing that can be twisted—let me help untangle the home loan process for you!” or “No knots in this mortgage journey—just smooth steps and salty snacks.” Whether it’s through tasty treats\, engaging content\, or clever branding\, National Pretzel Day gives you a perfect chance to mix business with a little bit of salty fun.
URL:https://www.genevafi.com/event/national-pretzel-day/
CATEGORIES:National Days
ATTACH;FMTTYPE=image/jpeg:https://www.genevafi.com/wp-content/uploads/2021/04/pretzelrecipe.jpeg
END:VEVENT
BEGIN:VEVENT
DTSTART;VALUE=DATE:20250425
DTEND;VALUE=DATE:20250426
DTSTAMP:20260425T041104
CREATED:20250422T172535Z
LAST-MODIFIED:20250422T172535Z
UID:88208-1745539200-1745625599@www.genevafi.com
SUMMARY:Arbor Day
DESCRIPTION:Arbor Day is the perfect opportunity for Loan Officers to connect with their communities and clients in a meaningful\, environmentally conscious way. One great idea is to give away tree seedlings—either by setting up a booth or partnering with a local nursery. This simple gesture promotes sustainability and provides a memorable client experience. Another option is to sponsor a community tree planting event with a local park\, school\, or nonprofit\, inviting clients to join and share the event on social media to build both brand visibility and community goodwill. You can also run a “Plant Roots with Us” campaign\, tying the symbolism of trees to the idea of homeownership by gifting a small potted tree or plant with a message like “Planting roots in your new home starts here.” \nFor client-focused ideas\, consider eco-friendly closing gifts. For example\, have a tree planted in each client’s honor through organizations like One Tree Planted or the Arbor Day Foundation. You could also create a branded one-pager full of eco-friendly home tips and tree benefits—useful and aligned with your business. Another thoughtful gesture is to send or drop off “Grow With Us” cards that include a packet of wildflower or tree seeds\, thanking clients for helping your business grow. \nDigitally\, Arbor Day is a great time to engage on social media. Share a reel or video of you or your team planting a tree with a message about long-term growth\, drawing a connection between nurturing trees and building financial stability through homeownership. You can also run an Arbor Day-themed Instagram Story poll or trivia to educate and entertain your audience with questions like “How many trees does the average house save with energy-efficient landscaping?” Lastly\, consider spotlighting a local green hero\, like a teacher\, landscaper\, or eco-conscious community member. Tag them and use the opportunity to celebrate local efforts and strengthen your network.
URL:https://www.genevafi.com/event/arbor-day/
CATEGORIES:National Days
ATTACH;FMTTYPE=image/jpeg:https://www.genevafi.com/wp-content/uploads/2023/02/Payson-AZ.jpg
END:VEVENT
BEGIN:VEVENT
DTSTART;VALUE=DATE:20250422
DTEND;VALUE=DATE:20250423
DTSTAMP:20260425T041104
CREATED:20250422T171027Z
LAST-MODIFIED:20250422T171210Z
UID:88204-1745280000-1745366399@www.genevafi.com
SUMMARY:Earth Day
DESCRIPTION:Click Here to Download Image
URL:https://www.genevafi.com/event/earth-day/
CATEGORIES:National Days
ATTACH;FMTTYPE=image/webp:https://www.genevafi.com/wp-content/uploads/2025/04/Mason-Jar-string-lights.webp
END:VEVENT
END:VCALENDAR